BEGIN:VCALENDAR
VERSION:2.0
PRODID:-//Zwingli United Church of Christ, Souderton, PA - ECPv6.3.0//NONSGML v1.0//EN
CALSCALE:GREGORIAN
METHOD:PUBLISH
X-ORIGINAL-URL:https://zwingli.org
X-WR-CALDESC:Events for Zwingli United Church of Christ, Souderton, PA
REFRESH-INTERVAL;VALUE=DURATION:PT1H
X-Robots-Tag:noindex
X-PUBLISHED-TTL:PT1H
BEGIN:VTIMEZONE
TZID:UTC
BEGIN:STANDARD
TZOFFSETFROM:+0000
TZOFFSETTO:+0000
TZNAME:UTC
DTSTART:20240101T000000
END:STANDARD
END:VTIMEZONE
BEGIN:VEVENT
DTSTART;TZID=UTC:20240308T163000
DTEND;TZID=UTC:20240308T180000
DTSTAMP:20260419T100003
CREATED:20240203T020150Z
LAST-MODIFIED:20240312T001724Z
UID:2117-1709915400-1709920800@zwingli.org
SUMMARY:Scout Troop #71776-Babysitting Course
DESCRIPTION:
URL:https://zwingli.org/event/scout-troop-71776-babysitting-course
END:VEVENT
BEGIN:VEVENT
DTSTART;TZID=UTC:20240308T180000
DTEND;TZID=UTC:20240308T193000
DTSTAMP:20260419T100003
CREATED:20230607T201052Z
LAST-MODIFIED:20240125T004942Z
UID:1212-1709920800-1709926200@zwingli.org
SUMMARY:Scout Troop #71776
DESCRIPTION:
URL:https://zwingli.org/event/scout-troop-71776-20
LOCATION:youth
END:VEVENT
END:VCALENDAR