BEGIN:VCALENDAR
VERSION:2.0
PRODID:-//Zwingli United Church of Christ, Souderton, PA - ECPv6.3.0//NONSGML v1.0//EN
CALSCALE:GREGORIAN
METHOD:PUBLISH
X-ORIGINAL-URL:https://zwingli.org
X-WR-CALDESC:Events for Zwingli United Church of Christ, Souderton, PA
REFRESH-INTERVAL;VALUE=DURATION:PT1H
X-Robots-Tag:noindex
X-PUBLISHED-TTL:PT1H
BEGIN:VTIMEZONE
TZID:UTC
BEGIN:STANDARD
TZOFFSETFROM:+0000
TZOFFSETTO:+0000
TZNAME:UTC
DTSTART:20240101T000000
END:STANDARD
END:VTIMEZONE
BEGIN:VEVENT
DTSTART;TZID=UTC:20240416T180000
DTEND;TZID=UTC:20240416T183000
DTSTAMP:20260419T095636
CREATED:20230607T201103Z
LAST-MODIFIED:20240125T005413Z
UID:1267-1713290400-1713292200@zwingli.org
SUMMARY:Scout Troop #71899
DESCRIPTION:
URL:https://zwingli.org/event/scout-troop-71899-21
LOCATION:Youth room
END:VEVENT
BEGIN:VEVENT
DTSTART;TZID=UTC:20240416T180000
DTEND;TZID=UTC:20240416T193000
DTSTAMP:20260419T095636
CREATED:20240125T005158Z
LAST-MODIFIED:20240125T005158Z
UID:1860-1713290400-1713295800@zwingli.org
SUMMARY:Scout troop #71899
DESCRIPTION:
URL:https://zwingli.org/event/scout-troop-71899-41
END:VEVENT
BEGIN:VEVENT
DTSTART;TZID=UTC:20240416T190000
DTEND;TZID=UTC:20240416T203000
DTSTAMP:20260419T095636
CREATED:20230607T201103Z
LAST-MODIFIED:20240311T234737Z
UID:1268-1713294000-1713299400@zwingli.org
SUMMARY:Church Council
DESCRIPTION:
URL:https://zwingli.org/event/church-council-11
LOCATION:Zoom
END:VEVENT
END:VCALENDAR