BEGIN:VCALENDAR
VERSION:2.0
PRODID:-//Zwingli United Church of Christ, Souderton, PA - ECPv6.3.0//NONSGML v1.0//EN
CALSCALE:GREGORIAN
METHOD:PUBLISH
X-WR-CALNAME:Zwingli United Church of Christ, Souderton, PA
X-ORIGINAL-URL:https://zwingli.org
X-WR-CALDESC:Events for Zwingli United Church of Christ, Souderton, PA
REFRESH-INTERVAL;VALUE=DURATION:PT1H
X-Robots-Tag:noindex
X-PUBLISHED-TTL:PT1H
BEGIN:VTIMEZONE
TZID:America/New_York
BEGIN:DAYLIGHT
TZOFFSETFROM:-0500
TZOFFSETTO:-0400
TZNAME:EDT
DTSTART:20260308T070000
END:DAYLIGHT
BEGIN:STANDARD
TZOFFSETFROM:-0400
TZOFFSETTO:-0500
TZNAME:EST
DTSTART:20261101T060000
END:STANDARD
END:VTIMEZONE
BEGIN:VEVENT
DTSTART;TZID=America/New_York:20260419T103000
DTEND;TZID=America/New_York:20260419T113000
DTSTAMP:20260421T043509
CREATED:20260318T194612Z
LAST-MODIFIED:20260318T194612Z
UID:3105-1776594600-1776598200@zwingli.org
SUMMARY:Adult Electives - Grass Roots Experiences on Climate Action
DESCRIPTION:In 2025 Nevaeh Tice traveled to Brazil for the COP30 UN Climate Conference and Missy Rogers participated in the Citizen’s Climate Lobby Day in Washington DC.  Come to hear from these two Zwingli members about their experiences on climate action.
URL:https://zwingli.org/event/adult-electives-grass-roots-experiences-on-climate-action
LOCATION:Parlor
END:VEVENT
END:VCALENDAR