BEGIN:VCALENDAR
VERSION:2.0
PRODID:-//Zwingli United Church of Christ, Souderton, PA - ECPv6.3.0//NONSGML v1.0//EN
CALSCALE:GREGORIAN
METHOD:PUBLISH
X-ORIGINAL-URL:https://zwingli.org
X-WR-CALDESC:Events for Zwingli United Church of Christ, Souderton, PA
REFRESH-INTERVAL;VALUE=DURATION:PT1H
X-Robots-Tag:noindex
X-PUBLISHED-TTL:PT1H
BEGIN:VTIMEZONE
TZID:America/New_York
BEGIN:DAYLIGHT
TZOFFSETFROM:-0500
TZOFFSETTO:-0400
TZNAME:EDT
DTSTART:20260308T070000
END:DAYLIGHT
BEGIN:STANDARD
TZOFFSETFROM:-0400
TZOFFSETTO:-0500
TZNAME:EST
DTSTART:20261101T060000
END:STANDARD
END:VTIMEZONE
BEGIN:VEVENT
DTSTART;TZID=America/New_York:20260728T130000
DTEND;TZID=America/New_York:20260728T190000
DTSTAMP:20260423T081836
CREATED:20260323T154242Z
LAST-MODIFIED:20260323T154242Z
UID:3122-1785243600-1785265200@zwingli.org
SUMMARY:Miller-Keystone Blood Drive
DESCRIPTION:Miller-Keystone Blood Drive – Donate life saving blood on the fourth Tuesday of every month from 1:00-7:00 pm in the Family Life Center at Zwingli UCC. Signup can be completed at www.giveapint.org. If you plan to give Platelets\, click the Platelet tab before choosing your time slot. If you plan to give double-red cells\, key 2RBC in the comments space.  Thank you!
URL:https://zwingli.org/event/miller-keystone-blood-drive-25
END:VEVENT
END:VCALENDAR